BEGIN:VCALENDAR
VERSION:2.0
PRODID:-//AKV - Altkalksburger Vereinigung - ECPv4.6.25//NONSGML v1.0//EN
CALSCALE:GREGORIAN
METHOD:PUBLISH
X-WR-CALNAME:AKV - Altkalksburger Vereinigung
X-ORIGINAL-URL:https://www.altkalksburger.org
X-WR-CALDESC:Veranstaltungen für AKV - Altkalksburger Vereinigung
BEGIN:VEVENT
DTSTART;TZID=Europe/Berlin:20260609T190000
DTEND;TZID=Europe/Berlin:20260609T220000
DTSTAMP:20260422T144737
CREATED:20260120T172409Z
LAST-MODIFIED:20260310T163052Z
UID:11004-1781031600-1781042400@www.altkalksburger.org
SUMMARY:Jubiläumscocktail der Maturajahrgänge 1956\, 1961\, 1966\, 1971\, 1976\, 1981\, 1986 und 1991
DESCRIPTION:\n				\n				\n				\n				\n					\n				\n				\n				\n				\n				\n				\n				\n					Wir bitten um Anmeldung bis zum 06.06.2026.\n \nBei dieser Veranstaltung werden Fotos gemacht\, die auf unseren Plattformen (Magazin\, Instagram\, etc.) veröffentlicht werden.\n  \n				\n			 \n			 \n				\n				\n			 \n				\n				\n			 
URL:https://www.altkalksburger.org/event/maturajubilaeumscocktail-mj-54596469747984-2-copy-copy-copy-2-copy-2/
CATEGORIES:Club-Termin
ATTACH;FMTTYPE=image/jpeg:https://www.altkalksburger.org/wp-content/uploads/2026/01/IMG_2861-e1769534860383.jpg
END:VEVENT
END:VCALENDAR