BEGIN:VCALENDAR
VERSION:2.0
PRODID:-//AKV - Altkalksburger Vereinigung - ECPv4.6.25//NONSGML v1.0//EN
CALSCALE:GREGORIAN
METHOD:PUBLISH
X-WR-CALNAME:AKV - Altkalksburger Vereinigung
X-ORIGINAL-URL:https://www.altkalksburger.org
X-WR-CALDESC:Veranstaltungen für AKV - Altkalksburger Vereinigung
BEGIN:VEVENT
DTSTART;TZID=Europe/Berlin:20260627T120000
DTEND;TZID=Europe/Berlin:20260627T130000
DTSTAMP:20260421T130105
CREATED:20260421T085026Z
LAST-MODIFIED:20260421T085223Z
UID:11154-1782561600-1782565200@www.altkalksburger.org
SUMMARY:Das Rax-Kirchlein ruft
DESCRIPTION:© C.Stadler/Bwag; CC-BY-SA-4.0 \nBergmesse auf 1807 m Höhe im Rax-Kirchlein mit P. Hans Brandl SJ \nTreffpunkt entweder \n\num 11.45 Uhr vor dem Bergkirchlein oder\num 9.30 Uhr am Parkplatz Preiner Gscheid zum gemeinsamen Aufstieg;\n\nWenn der Gottesdienst wetterdingt abgesagt werden muss\, entnehmt Ihr das bitte der HomePage www.raxkircherl.at. \n
URL:https://www.altkalksburger.org/event/das-rax-kirchlein-ruft-copy-2/
CATEGORIES:Außer-Haus
ATTACH;FMTTYPE=image/jpeg:https://www.altkalksburger.org/wp-content/uploads/2024/03/Kapellen_-_Raxkircherl.jpg
END:VEVENT
END:VCALENDAR